BEGIN:VCALENDAR
VERSION:2.0
PRODID:WorCo
X-WR-CALNAME:Vacation Memories Art Exhibit Opening Reception
BEGIN:VEVENT
UID:248022024-07-12
DTSTART:20240712T200000Z
SEQUENCE:0
TRANSP:OPAQUE
DTEND:20240712T220000Z
LOCATION:502 94th Street\nOcean City Maryland 21842
X-APPLE-STRUCTURED-LOCATION;VALUE=URI;X-ADDRESS=502 94th Street\nOcean City
  Maryland 21842;X-APPLE-RADIUS=49;X-TITLE=502 94th Street:geo:38.410046,-7
 5.062181
GEO:38.410046;-75.062181
SUMMARY:Vacation Memories Art Exhibit Opening Reception
CLASS:PUBLIC
DESCRIPTION:During July and August\, the Worcester County Arts Council is p
 leased\nto present: \"Vacation Memories\"\, a juried art competition and e
 xhibit\nfeaturing 31 entries submitted by 20 emerging and established arti
 sts\nwith work in all media. \n\nThe subject: \"VACATION MEMORIES\" was op
 en to the artist's expression\nand interpretation.\n\nEntries in this comp
 etition were judged by local artist and former art\neducator\, CLYTIE W. T
 AYLOR\n[https://eu5wjycab.cc.rs6.net/tn.jsp?f=001xKhoV_Xdcop89r_ffO16P9zXi
 zBUNh43O1uUTNsEnfdMkA1MHPZhmsWmC9un_Y4RqbtWjldO10d_5aZHLAxpddrnKwDarK93FdB
 M5Fi_W1_zuROffzIKIiEe8eLXLX8KvyP_KQa3tZz8aUG6n8O5W-0sqGXmuXxxfqD0cqxuHZ9yT
 s1LENgfoWhDowbfuNEE&c=GNcYlmPelOq3-EzMtev-JBNFNXy4aQezYdkcHaxLxvHWj4h85fYV
 Nw==&ch=KC4XpAfBU31LG7Vpma-3EZ6a26x8ihzLIfhCsVPlpiwnRZjsk55t0w==]..\n\nMON
 ETARY PRIZES WILL BE AWARDED AT 5:00 PM DURING AN\nOPEN-TO-THE-PUBLIC RECE
 PTION ON \n\nJULY 12 FROM 4 PM – 6 PM.\n\nEXHIBIT ON DISPLAY THROUGH SEP
 TEMBER 1\, 2024.\n\nIn addition to the featured exhibit\, new artwork crea
 ted by thirty\nlocal artists and Gallery members is also available for pur
 chase.\n
X-ALT-DESC;FMTTYPE=text/html:<p><span style=\"font-size:12pt\"><span style=
 \"font-family:Aptos\,sans-serif\"><span style=\"font-size:10.5pt\"><span s
 tyle=\"font-family:&quot\;Arial&quot\;\,sans-serif\"><span style=\"color:b
 lack\">During July and August\, the Worcester County Arts Council is pleas
 ed to present: &quot\;Vacation Memories&quot\;\, a juried art competition 
 and exhibit featuring 31 entries submitted by 20 emerging and established 
 artists with work in all media. </span></span></span></span></span></p>\n\
 n<p><span style=\"font-size:12pt\"><span style=\"font-family:Aptos\,sans-s
 erif\"><span style=\"font-size:10.5pt\"><span style=\"font-family:&quot\;A
 rial&quot\;\,sans-serif\"><span style=\"color:#2e2f2f\">The subject: <b>&q
 uot\;Vacation Memories&quot\;</b> was open to the artist&#39\;s expression
  and interpretation.</span></span></span></span></span></p>\n\n<p><span st
 yle=\"font-size:12pt\"><span style=\"font-family:Aptos\,sans-serif\"><span
  style=\"font-size:10.5pt\"><span style=\"font-family:&quot\;Arial&quot\;\
 ,sans-serif\"><span style=\"color:#2e2f2f\">Entries in this competition we
 re judged by local artist and former art educator\, <a href=\"https://eu5w
 jycab.cc.rs6.net/tn.jsp?f=001xKhoV_Xdcop89r_ffO16P9zXizBUNh43O1uUTNsEnfdMk
 A1MHPZhmsWmC9un_Y4RqbtWjldO10d_5aZHLAxpddrnKwDarK93FdBM5Fi_W1_zuROffzIKIiE
 e8eLXLX8KvyP_KQa3tZz8aUG6n8O5W-0sqGXmuXxxfqD0cqxuHZ9yTs1LENgfoWhDowbfuNEE&
 amp\;c=GNcYlmPelOq3-EzMtev-JBNFNXy4aQezYdkcHaxLxvHWj4h85fYVNw==&amp\;ch=KC
 4XpAfBU31LG7Vpma-3EZ6a26x8ihzLIfhCsVPlpiwnRZjsk55t0w==\" style=\"color:blu
 e\; text-decoration:underline\" target=\"_blank\"><b><span style=\"color:#
 5e0069\">Clytie W. Taylor</span></b></a>..</span></span></span></span></sp
 an></p>\n\n<p><span style=\"font-size:12pt\"><span style=\"font-family:Apt
 os\,sans-serif\"><b><span style=\"font-size:10.5pt\"><span style=\"font-fa
 mily:&quot\;Arial&quot\;\,sans-serif\"><span style=\"color:#2e2f2f\">Monet
 ary prizes will be awarded at 5:00 pm during an open-to-the-public recepti
 on on </span></span></span></b></span></span></p>\n\n<p align=\"center\" s
 tyle=\"text-align:center\"><span style=\"font-size:12pt\"><span style=\"fo
 nt-family:Aptos\,sans-serif\"><b><span style=\"font-size:10.5pt\"><span st
 yle=\"font-family:&quot\;Arial&quot\;\,sans-serif\"><span style=\"color:#2
 e2f2f\">July 12 from 4 pm &ndash\; 6 pm.</span></span></span></b></span></
 span></p>\n\n<p align=\"center\" style=\"text-align:center\"><span style=\
 "font-size:12pt\"><span style=\"font-family:Aptos\,sans-serif\"><b><span s
 tyle=\"font-size:10.5pt\"><span style=\"font-family:&quot\;Arial&quot\;\,s
 ans-serif\"><span style=\"color:#5e0069\">Exhibit on display through Septe
 mber 1\, 2024.</span></span></span></b></span></span></p>\n\n<p align=\"ce
 nter\" style=\"text-align:center\"><span style=\"font-size:12pt\"><span st
 yle=\"font-family:Aptos\,sans-serif\"><span style=\"font-size:10.5pt\"><sp
 an style=\"font-family:&quot\;Arial&quot\;\,sans-serif\"><span style=\"col
 or:black\">In addition to the featured exhibit\, new artwork created by th
 irty local artists and Gallery members is also available for purchase.</sp
 an></span></span></span></span></p>
DTSTAMP:20260421T095416Z
END:VEVENT
END:VCALENDAR