BEGIN:VCALENDAR
VERSION:2.0
PRODID:WorCo
X-WR-CALNAME:Storm Warriors 5k Run/Walk
BEGIN:VEVENT
UID:184812023-11-11
DTSTART:20231111T140000Z
SEQUENCE:0
TRANSP:OPAQUE
DTEND:20231111T160000Z
LOCATION:813 South Atlantic Avenue\nOcean City Maryland 21842
X-APPLE-STRUCTURED-LOCATION;VALUE=URI;X-ADDRESS=813 South Atlantic Avenue\n
 Ocean City Maryland 21842;X-APPLE-RADIUS=49;X-TITLE=813 South Atlantic Ave
 nue:geo:38.325493,-75.087959
GEO:38.325493;-75.087959
SUMMARY:Storm Warriors 5k Run/Walk
CLASS:PUBLIC
DESCRIPTION:This run will take place on the Ocean City Boardwalk and will c
 onsist\nof an out-and-back course\, perfect for the speediest of runners\,
  or\nthose who just want a casual walk.\nSIGN UP ONLINE:\nhttps://runsignu
 p.com/Race/Register/?raceId=111360...\nAWARDS\n1st place overall\, Male an
 d Female\n1st\, 2nd Place Age Group Awards for the following age groups: 1
 4 and\nunder\, 15-19\, 20-29\, 30-39\, 40-49\, 50-59\, 60+\nRESTRICTIONS\n
 As we will be on the Ocean City Boardwalk\, bicycles\, rollerblades\,\nska
 teboards\, and pets are not allowed on either course during the\nrace(s). 
 Baby joggers are only permitted on the 5K course. These rules\nare for you
 r safety as well as others on the course with you. Anyone\nviolating these
  rules will be immediately escorted off the course and\nout of the race.\n
 DAY OF THE RACE:\nHere are a few things you should know for this Saturday'
 s Storm\nWarriors 5k run/walk.\nDay-of registration and pre-registration p
 acket pickup will open at\n8:00 am. The gun will go off at 9:00 am! Our 5k
  run/walk will take\nplace rain or shine. Awards will take place directly 
 after the race.\nParking: All participants can park in the inlet parking l
 ot. Parking\nis FREE\nWe want to thank everyone for supporting the Ocean C
 ity Life- Saving\nStation Museum. Your participation in our annual Storm W
 arriors 5k\nrun/walk propels our mission to preserve the cultural and natu
 ral\nhistory of Ocean City Maryland.\n
X-ALT-DESC;FMTTYPE=text/html:<p>This run will take place on the Ocean City 
 Boardwalk and will consist of an out-and-back course\, perfect for the spe
 ediest of runners\, or those who just want a casual walk.<br />\nSIGN UP O
 NLINE:<br />\n<a href=\"https://runsignup.com/Race/Register/?raceId=111360
 \" target=\"_blank\">https://runsignup.com/Race/Register/?raceId=111360</a
 >...<br />\nAWARDS<br />\n1st place overall\, Male and Female<br />\n1st\,
  2nd Place Age Group Awards for the following age groups: 14 and under\, 1
 5-19\, 20-29\, 30-39\, 40-49\, 50-59\, 60+<br />\nRESTRICTIONS<br />\nAs w
 e will be on the Ocean City Boardwalk\, bicycles\, rollerblades\, skateboa
 rds\, and pets are not allowed on either course during the race(s). Baby j
 oggers are only permitted on the 5K course. These rules are for your safet
 y as well as others on the course with you. Anyone violating these rules w
 ill be immediately escorted off the course and out of the race.<br />\nDAY
  OF THE RACE:<br />\nHere are a few things you should know for this Saturd
 ay&#39\;s Storm Warriors 5k run/walk.<br />\nDay-of registration and pre-r
 egistration packet pickup will open at 8:00 am. The gun will go off at 9:0
 0 am! Our 5k run/walk will take place rain or shine. Awards will take plac
 e directly after the race.<br />\nParking: All participants can park in th
 e inlet parking lot. Parking is FREE<br />\nWe want to thank everyone for 
 supporting the Ocean City Life- Saving Station Museum. Your participation 
 in our annual Storm Warriors 5k run/walk propels our mission to preserve t
 he cultural and natural history of Ocean City Maryland.</p>
DTSTAMP:20260424T033734Z
END:VEVENT
END:VCALENDAR