BEGIN:VCALENDAR
VERSION:2.0
PRODID:WorCo
X-WR-CALNAME:Otterly Spooky! Halloween at the Museum!
BEGIN:VEVENT
UID:188472023-10-28
DTSTART:20231028T150000Z
SEQUENCE:0
TRANSP:OPAQUE
DTEND:20231028T190000Z
LOCATION:2 Market Street\nPocomoke City Maryland 21851
X-APPLE-STRUCTURED-LOCATION;VALUE=URI;X-ADDRESS=2 Market Street\nPocomoke C
 ity Maryland 21851;X-APPLE-RADIUS=49;X-TITLE=2 Market Street:geo:38.075883
 ,-75.570290
GEO:38.075883;-75.570290
SUMMARY:Otterly Spooky! Halloween at the Museum!
CLASS:PUBLIC
DESCRIPTION:Join us October 28th and 29th for a spooky good time at the Mus
 eum! 11\nam - 4 pm on the 28th\, and 11 am - 3 pm on the 29th.\n\n🎃 wea
 r your costume\n🎃 spooky scavenger hunt\n🎃 interactive exhibits\n
 🎃 Halloween themed otter show at noon both days\n🎃 trick or treat st
 ations with animals\n🎃 pumpkin art and crafts\n🎃 snacks and refreshm
 ents\n
X-ALT-DESC;FMTTYPE=text/html:<p>Join us October 28th and 29th for a spooky 
 good time at the Museum! 11 am - 4 pm on the 28th\, and 11 am - 3 pm on th
 e 29th.<br />\n<br />\n🎃 wear your costume<br />\n🎃 spooky scavenger
  hunt<br />\n🎃 interactive exhibits<br />\n🎃 Halloween themed otter 
 show at noon both days<br />\n🎃 trick or treat stations with animals<br
  />\n🎃 pumpkin art and crafts<br />\n🎃 snacks and refreshments</p>
DTSTAMP:20260424T020602Z
END:VEVENT
END:VCALENDAR