BEGIN:VCALENDAR
VERSION:2.0
PRODID:WorCo
X-WR-CALNAME:Mini Golf Tournament
BEGIN:VEVENT
UID:195002024-05-02
DTSTART:20240502T190000Z
SEQUENCE:0
TRANSP:OPAQUE
DTEND:20240502T220000Z
SUMMARY:Mini Golf Tournament
CLASS:PUBLIC
DESCRIPTION:Our first-ever Mini Golf Tournament! Skip the rest of the workd
 ay on\nThursday\, May 2\, and hit the \"links\" at the brand new 20th St N
 ick's\nMini Golf. Bound to be an instant tradition\, our Mini Golf Trophy 
 will\nbe the envy of all your friends.\n\nMust be at least 21 to participa
 te. Beverages will be for sale.\n\nEighteen holes\, most with opportunitie
 s to win prizes. Hole in one\,\nclosest to the pin\, ball drop\, chance to
  move up\, mulligans\,\nbeverages\, a trophy\, and lots of prizes!\n
X-ALT-DESC;FMTTYPE=text/html:<p>Our first-ever Mini Golf Tournament! Skip t
 he rest of the workday on Thursday\, May 2\, and hit the &quot\;links&quot
 \; at the brand new 20th St Nick&#39\;s Mini Golf. Bound to be an instant 
 tradition\, our Mini Golf Trophy will be the envy of all your friends.<br 
 />\n<br />\nMust be at least 21 to participate. Beverages will be for sale
 .<br />\n<br />\nEighteen holes\, most with opportunities to win prizes. H
 ole in one\, closest to the pin\, ball drop\, chance to move up\, mulligan
 s\, beverages\, a trophy\, and lots of prizes!</p>
DTSTAMP:20260424T164529Z
END:VEVENT
END:VCALENDAR