BEGIN:VCALENDAR
VERSION:2.0
PRODID:WorCo
X-WR-CALNAME:Light Up the Pines
BEGIN:VEVENT
UID:153122022-12-09
DTSTART;VALUE=DATE:20221209
SEQUENCE:0
TRANSP:OPAQUE
DTEND;VALUE=DATE:20221210
SUMMARY:Light Up the Pines
CLASS:PUBLIC
DESCRIPTION:This holiday season\, brighten the Ocean Pines community by reg
 istering\nyour home for this free\, annual outdoor decorating event.\n\nRe
 gister by Dec. 9 to be entered into a drawing to win one of three\n$50 bil
 l credits from Choptank Electric Cooperative!\n\nThe first 25 homes to sig
 n up will also receive Choptank Electric\ngoodies.\n\nVisit oceanpines.org
  for an online map of participating homes.\n\nRegistration is open from No
 v. 21 - Dec. 9. Email info@oceanpines.org\nor call 410-641-7717\n
X-ALT-DESC;FMTTYPE=text/html:<p>This holiday season\, brighten the Ocean Pi
 nes community by registering your home for this free\, annual outdoor deco
 rating event.<br />\n<br />\nRegister by Dec. 9 to be entered into a drawi
 ng to win one of three $50 bill credits from Choptank Electric Cooperative
 !<br />\n<br />\nThe first 25 homes to sign up will also receive Choptank 
 Electric goodies.<br />\n<br />\nVisit oceanpines.org for an online map of
  participating homes.<br />\n<br />\nRegistration is open from Nov. 21 - D
 ec. 9. Email <a href=\"mailto:info@oceanpines.org\" target=\"_blank\">info
 @oceanpines.org</a> or call 410-641-7717</p>
X-MICROSOFT-CDO-ALLDAYEVENT:TRUE
DTSTAMP:20260422T121147Z
END:VEVENT
END:VCALENDAR