BEGIN:VCALENDAR
VERSION:2.0
PRODID:WorCo
X-WR-CALNAME:Joey Harkum Band
BEGIN:VEVENT
UID:171802023-03-24
DTSTART:20230325T013000Z
SEQUENCE:0
TRANSP:OPAQUE
DTEND:20230324T040000Z
LOCATION:706 Philadelphia Ave\nOcean City MD 21842
X-APPLE-STRUCTURED-LOCATION;VALUE=URI;X-ADDRESS=706 Philadelphia Ave\nOcean
  City MD 21842;X-APPLE-RADIUS=49;X-TITLE=706 Philadelphia Ave:geo:38.33885
 1,-75.083473
GEO:38.338851;-75.083473
SUMMARY:Joey Harkum Band
CLASS:PUBLIC
DESCRIPTION:Come to Pickles Pub in Ocean City for a performance by the tale
 nted\nJoey Harkum. Enjoy this live show at the locals' favorite Downtown\n
 Ocean City watering hole. Live performances are always a great time at\nPi
 ckle's Pub! 
X-ALT-DESC;FMTTYPE=text/html:<div>Come to Pickles Pub in Ocean City for a p
 erformance by the talented Joey Harkum. Enjoy this live show at the locals
 ' favorite Downtown Ocean City watering hole. Live performances are always
  a great time at Pickle's Pub! </div>
DTSTAMP:20260423T035553Z
END:VEVENT
END:VCALENDAR