BEGIN:VCALENDAR
VERSION:2.0
PRODID:WorCo
X-WR-CALNAME:Ice Skating in Sturgis Park
BEGIN:VEVENT
UID:82202021-12-11
DTSTART:20211211T160000Z
SEQUENCE:0
TRANSP:OPAQUE
DTEND:20211211T220000Z
SUMMARY:Ice Skating in Sturgis Park
CLASS:PUBLIC
DESCRIPTION:Come to Sturgis Park to skate under the pavilion with a beautif
 ul view\nof the Pocomoke River. It costs just $5/hour and includes skate\n
 rental.\n
X-ALT-DESC;FMTTYPE=text/html:<p>Come to Sturgis Park to skate under the pav
 ilion with a beautiful view of the Pocomoke River. It costs just $5/hour a
 nd includes skate rental.</p>
DTSTAMP:20260424T033658Z
END:VEVENT
END:VCALENDAR