BEGIN:VCALENDAR
VERSION:2.0
PRODID:WorCo
X-WR-CALNAME:Fourth of July Fireworks N. Division Street and Beach
BEGIN:VEVENT
UID:268542025-07-04
DTSTART:20250704T223000Z
SEQUENCE:0
TRANSP:OPAQUE
DTEND:20250704T040000Z
LOCATION:200 125th St\nOcean City MD 21842
X-APPLE-STRUCTURED-LOCATION;VALUE=URI;X-ADDRESS=200 125th St\nOcean City MD
  21842;X-APPLE-RADIUS=49;X-TITLE=200 125th St:geo:38.433417,-75.058081
GEO:38.433417;-75.058081
SUMMARY:Fourth of July Fireworks N. Division Street and Beach
CLASS:PUBLIC
DESCRIPTION:DOWNTOWN: N. DIVISION ST. BEACH\nFree music celebration on the 
 Caroline St. Stage. Afterwards\,\nfireworks will fill the sky over the oce
 an. Bring a beach chair or\nblanket & arrive early.\n\nThe celebration wil
 l kick off with DJ Kutt on the Caroline Street\nStage at 8:00 pm\, firewor
 ks will follow at 9:30 pm\n\nUPTOWN: NORTHSIDE PARK\, 125TH ST.\nFree musi
 c celebration starts off the evening. Then\, enjoy a\nspectacular firework
 s display. Bring a beach chair or blanket & arrive\nearly.\nThis celebrati
 on will kick off with DJ musical entertainment provided\nby Radio Ocean Ci
 ty with the fireworks following at 9:30 pm \n\n*PARKING: The Inlet Lot wi
 ll have a flat rate for the day. Consider\ntaking the bus as parking is li
 mited throughout town. Bus fare is $4\nride all-day. The West OC Park & Ri
 de on Rt. 50 is just west of the\nRt. 50 Bridge & offers free parking & $4
  ride-all-day shuttle service\nto downtown. (Prices subject to change.)\n
X-ALT-DESC;FMTTYPE=text/html:<p style=\"border-width:0px\; border-style:sol
 id\; border-color:currentcolor\; text-align:start\; margin-bottom:20px\"><
 span style=\"font-size:18px\"><span style=\"box-sizing:border-box\"><span 
 style=\"font-family:proxima-nova\, sans-serif\"><span style=\"line-height:
 1.555em\"><span style=\"color:#14262d\"><span style=\"font-weight:400\"><s
 pan style=\"font-style:normal\"><span style=\"font-variant-ligatures:norma
 l\"><span style=\"white-space:normal\"><span style=\"background-color:#fff
 fff\"><span style=\"text-decoration-thickness:initial\"><span style=\"text
 -decoration-style:initial\"><span style=\"text-decoration-color:initial\">
 <span style=\"font-size:14pt\; border-width:0px\; border-style:solid\; bor
 der-color:currentcolor\"><span style=\"box-sizing:border-box\"><strong sty
 le=\"border-width:0px\; border-style:solid\; border-color:currentcolor\; b
 ox-sizing:border-box\; font-weight:bolder\; font-size:14pt\">DOWNTOWN: N. 
 Division St. Beach</strong><br style=\"border-width:0px\; border-style:sol
 id\; border-color:currentcolor\; box-sizing:border-box\" />\n<span style=\
 "font-size:12pt\; border-width:0px\; border-style:solid\; border-color:cur
 rentcolor\"><span style=\"box-sizing:border-box\"><span style=\"font-famil
 y:helvetica\, arial\, sans-serif\">Free music celebration on the Caroline 
 St. Stage. Afterwards\, fireworks will fill the sky over the ocean. Bring 
 a beach chair or blanket &amp\; arrive early.</span></span></span></span><
 /span></span></span></span></span></span></span></span></span></span></spa
 n></span></span></span></p>\n\n<p style=\"border-width:0px\; border-style:
 solid\; border-color:currentcolor\; text-align:start\; margin-bottom:20px\
 "><span style=\"font-size:18px\"><span style=\"box-sizing:border-box\"><sp
 an style=\"font-family:proxima-nova\, sans-serif\"><span style=\"line-heig
 ht:1.555em\"><span style=\"color:#14262d\"><span style=\"font-weight:400\"
 ><span style=\"font-style:normal\"><span style=\"font-variant-ligatures:no
 rmal\"><span style=\"white-space:normal\"><span style=\"background-color:#
 ffffff\"><span style=\"text-decoration-thickness:initial\"><span style=\"t
 ext-decoration-style:initial\"><span style=\"text-decoration-color:initial
 \"><span style=\"font-size:12pt\; border-width:0px\; border-style:solid\; 
 border-color:currentcolor\"><span style=\"box-sizing:border-box\"><span st
 yle=\"font-family:helvetica\, arial\, sans-serif\">The celebration will ki
 ck off with DJ Kutt on the Caroline Street Stage at 8:00 pm\, fireworks wi
 ll follow at 9:30 pm</span></span></span></span></span></span></span></spa
 n></span></span></span></span></span></span></span></span></p>\n\n<p style
 =\"border-width:0px\; border-style:solid\; border-color:currentcolor\; tex
 t-align:start\; margin-bottom:20px\"><span style=\"font-size:18px\"><span 
 style=\"box-sizing:border-box\"><span style=\"font-family:proxima-nova\, s
 ans-serif\"><span style=\"line-height:1.555em\"><span style=\"color:#14262
 d\"><span style=\"font-weight:400\"><span style=\"font-style:normal\"><spa
 n style=\"font-variant-ligatures:normal\"><span style=\"white-space:normal
 \"><span style=\"background-color:#ffffff\"><span style=\"text-decoration-
 thickness:initial\"><span style=\"text-decoration-style:initial\"><span st
 yle=\"text-decoration-color:initial\"><strong style=\"border-width:0px\; b
 order-style:solid\; border-color:currentcolor\; box-sizing:border-box\; fo
 nt-weight:bolder\"><span style=\"font-size:14pt\; border-width:0px\; borde
 r-style:solid\; border-color:currentcolor\"><span style=\"box-sizing:borde
 r-box\">UPTOWN: Northside Park\, 125th St.</span></span></strong><br style
 =\"border-width:0px\; border-style:solid\; border-color:currentcolor\; box
 -sizing:border-box\" />\n<span style=\"font-size:12pt\; border-width:0px\;
  border-style:solid\; border-color:currentcolor\"><span style=\"box-sizing
 :border-box\"><span style=\"font-family:helvetica\, arial\, sans-serif\">F
 ree music celebration starts off the evening. Then\, enjoy a spectacular f
 ireworks display. Bring a beach chair or blanket &amp\; arrive early.<br /
 >\nThis celebration will kick off with DJ musical entertainment provided b
 y Radio Ocean City with the fireworks following at 9:30 pm&nbsp\;</span></
 span></span></span></span></span></span></span></span></span></span></span
 ></span></span></span></span></p>\n\n<p style=\"border-width:0px\; border-
 style:solid\; border-color:currentcolor\; text-align:start\; margin-bottom
 :20px\"><span style=\"font-size:18px\"><span style=\"box-sizing:border-box
 \"><span style=\"font-family:proxima-nova\, sans-serif\"><span style=\"lin
 e-height:1.555em\"><span style=\"color:#14262d\"><span style=\"font-weight
 :400\"><span style=\"font-style:normal\"><span style=\"font-variant-ligatu
 res:normal\"><span style=\"white-space:normal\"><span style=\"background-c
 olor:#ffffff\"><span style=\"text-decoration-thickness:initial\"><span sty
 le=\"text-decoration-style:initial\"><span style=\"text-decoration-color:i
 nitial\"><span style=\"font-size:12pt\; border-width:0px\; border-style:so
 lid\; border-color:currentcolor\"><span style=\"box-sizing:border-box\"><s
 pan style=\"font-family:helvetica\, arial\, sans-serif\">*<strong style=\"
 border-width:0px\; border-style:solid\; border-color:currentcolor\; box-si
 zing:border-box\; font-weight:bolder\">Parking</strong>: The Inlet Lot wil
 l have a flat rate for the day. Consider taking the bus as parking is limi
 ted throughout town. Bus fare is $4 ride all-day. The West OC Park &amp\; 
 Ride on Rt. 50 is just west of the Rt. 50 Bridge &amp\; offers free parkin
 g &amp\; $4 ride-all-day shuttle service to downtown. (Prices subject to c
 hange.)</span></span></span></span></span></span></span></span></span></sp
 an></span></span></span></span></span></span></p>
DTSTAMP:20260423T043636Z
END:VEVENT
END:VCALENDAR