BEGIN:VCALENDAR
VERSION:2.0
PRODID:WorCo
X-WR-CALNAME:Fireworks along the boardwalk
BEGIN:VEVENT
UID:166142023-08-28
DTSTART:20230829T013000Z
SEQUENCE:0
TRANSP:OPAQUE
DTEND:20230829T020000Z
LOCATION:2 North Atlantic Avenue\nOcean City Maryland 21842
X-APPLE-STRUCTURED-LOCATION;VALUE=URI;X-ADDRESS=2 North Atlantic Avenue\nOc
 ean City Maryland 21842;X-APPLE-RADIUS=49;X-TITLE=2 North Atlantic Avenue:
 geo:38.330699,-75.085092
GEO:38.330699;-75.085092
SUMMARY:Fireworks along the boardwalk
CLASS:PUBLIC
DESCRIPTION:Cap off your Monday night in Ocean City\, MD with a dazzling sp
 ectacle\nof fireworks! Gather with friends and family as the vibrant color
 s and\nexplosive bursts fill the air with magic and excitement. Don't miss
 \nthis captivating show that will leave you with lasting memories of\nyour
  Ocean City experience.\n\nFIREWORKS SCHEDULE: EVERY MONDAY NIGHT FROM JUL
 Y 10 - AUGUST 28\n\n \n
X-ALT-DESC;FMTTYPE=text/html:<p>Cap off your Monday night in Ocean City\, M
 D with a dazzling spectacle of fireworks! Gather with friends and family a
 s the vibrant colors and explosive bursts fill the air with magic and exci
 tement. Don&#39\;t miss this captivating show that will leave you with las
 ting memories of your Ocean City experience.</p>\n\n<p>FIREWORKS SCHEDULE:
  EVERY MONDAY NIGHT FROM JULY 10 - AUGUST 28</p>\n\n<p>&nbsp\;</p>
DTSTAMP:20260422T164431Z
END:VEVENT
END:VCALENDAR