BEGIN:VCALENDAR
VERSION:2.0
PRODID:WorCo
X-WR-CALNAME:Dreamfest Events at the Sturgis One Room School House
BEGIN:VEVENT
UID:190942024-01-13
DTSTART:20240113T160000Z
SEQUENCE:0
TRANSP:OPAQUE
DTEND:20240113T200000Z
LOCATION:209 Willow Street\nPocomoke City Maryland 21851
X-APPLE-STRUCTURED-LOCATION;VALUE=URI;X-ADDRESS=209 Willow Street\nPocomoke
  City Maryland 21851;X-APPLE-RADIUS=49;X-TITLE=209 Willow Street:geo:38.07
 5572,-75.569799
GEO:38.075572;-75.569799
SUMMARY:Dreamfest Events at the Sturgis One Room School House
CLASS:PUBLIC
DESCRIPTION:Visit the One Room School Museum in Pocomoke City for a line up
  of\nevents during MLK weekend. \n\nJanuary 13:\n\n11-1: Buffalo Solider 
 Descendant Presentation\n\n1-3: Museum Tours\n\nJanuary 14: \n\n1-4: Muse
 um Tours \n
X-ALT-DESC;FMTTYPE=text/html:<p>Visit the One Room School Museum in Pocomok
 e City for a line up of events during MLK weekend.&nbsp\;</p>\n\n<p>Januar
 y 13:</p>\n\n<p>11-1: Buffalo Solider Descendant Presentation</p>\n\n<p>1-
 3: Museum Tours</p>\n\n<p>January 14:&nbsp\;</p>\n\n<p>1-4: Museum Tours&n
 bsp\;</p>
DTSTAMP:20260421T144718Z
END:VEVENT
END:VCALENDAR