BEGIN:VCALENDAR
VERSION:2.0
PRODID:WorCo
X-WR-CALNAME:Downtown Pocomoke Spring Festival
BEGIN:VEVENT
UID:159412023-04-01
DTSTART:20230401T150000Z
SEQUENCE:0
TRANSP:OPAQUE
DTEND:20230401T190000Z
SUMMARY:Downtown Pocomoke Spring Festival
CLASS:PUBLIC
DESCRIPTION:Come visit the Easter Bunny\, view the car show\, and enjoy the
  live\nentertainment\, petting zoo\, fishing\, bounce house\, vendors and 
 more! \n
X-ALT-DESC;FMTTYPE=text/html:<p>Come visit the Easter Bunny\, view the car 
 show\, and enjoy the live entertainment\, petting zoo\, fishing\, bounce h
 ouse\, vendors and more!&nbsp\;</p>
DTSTAMP:20260421T152442Z
END:VEVENT
END:VCALENDAR