BEGIN:VCALENDAR
VERSION:2.0
PRODID:WorCo
X-WR-CALNAME:Berlin Merry Marketplace
BEGIN:VEVENT
UID:80822021-12-19
DTSTART:20211219T160000Z
SEQUENCE:0
TRANSP:OPAQUE
DTEND:20211219T220000Z
LOCATION:14 South Main Street\nBerlin Maryland 21811
X-APPLE-STRUCTURED-LOCATION;VALUE=URI;X-ADDRESS=14 South Main Street\nBerli
 n Maryland 21811;X-APPLE-RADIUS=49;X-TITLE=14 South Main Street:geo:38.323
 702,-75.218803
GEO:38.323702;-75.218803
SUMMARY:Berlin Merry Marketplace
CLASS:PUBLIC
DESCRIPTION:Weekends:\nNov 27 & 28\nDec 4\, 5\, 11\, 12\, 18\, 19\nThe Berl
 in Welcome Center Parking lot will be transformed into a a\nfestive villag
 e with a Santa House called 'Kringle Kottage'\, artisans\,\nfood cultivato
 rs from the Berlin Farmers Market\, free grab n go\nholiday arts/craft pro
 jects for the kids will feature Hanukkah\,\nKwanzaa and Christmas\, hot ch
 ocolate and more!\nLive holiday music by Mr Bob Palladino\nThe Berlin Comm
 ons will feature hot cider\, mead\, artisans and more!\nSanta Visits at Th
 e Kringle Kottage are 10am-1pm\nFREE Horse Drawn Carriage Rides in the cen
 ter of town 11am - 3pm\nWrite a letter to Santa and receive a letter back 
 with a coupon for a\nsweet treat!\nMailbox located inside the vestibule of
  the Berlin Welcome Center.\nSponsored in part by a grant from the Marylan
 d State Arts Council.\n
X-ALT-DESC;FMTTYPE=text/html:<p>Weekends:<br />\nNov 27 &amp\; 28<br />\nDe
 c 4\, 5\, 11\, 12\, 18\, 19<br />\nThe Berlin Welcome Center Parking lot w
 ill be transformed into a a festive village with a Santa House called &#39
 \;Kringle Kottage&#39\;\, artisans\, food cultivators from the Berlin Farm
 ers Market\, free grab n go holiday arts/craft projects for the kids will 
 feature Hanukkah\, Kwanzaa and Christmas\, hot chocolate and more!<br />\n
 Live holiday music by Mr Bob Palladino<br />\nThe Berlin Commons will feat
 ure hot cider\, mead\, artisans and more!<br />\nSanta Visits at The Kring
 le Kottage are 10am-1pm<br />\nFREE Horse Drawn Carriage Rides in the cent
 er of town 11am - 3pm<br />\nWrite a letter to Santa and receive a letter 
 back with a coupon for a sweet treat!<br />\nMailbox located inside the ve
 stibule of the Berlin Welcome Center.<br />\nSponsored in part by a grant 
 from the Maryland State Arts Council.</p>
DTSTAMP:20260419T181841Z
END:VEVENT
END:VCALENDAR