BEGIN:VCALENDAR
VERSION:2.0
PRODID:WorCo
X-WR-CALNAME:Berlin Farmers Market
BEGIN:VEVENT
UID:244822026-05-17
DTSTART:20260517T130000Z
SEQUENCE:0
TRANSP:OPAQUE
DTEND:20260517T170000Z
LOCATION:14 South Main Street\nBerlin MD 21811
X-APPLE-STRUCTURED-LOCATION;VALUE=URI;X-ADDRESS=14 South Main Street\nBerli
 n MD 21811;X-APPLE-RADIUS=49;X-TITLE=14 South Main Street:geo:38.323702,-7
 5.218803
GEO:38.323702;-75.218803
SUMMARY:Berlin Farmers Market
CLASS:PUBLIC
DESCRIPTION:THE BERLIN FARMERS MARKET IS A PRODUCERS ONLY MARKET FEATURING 
 50+\nFARMERS\, FOOD CULTIVATORS\, BAKERS\, DISTILLERS\, SEAFOOD\, MEAT\, E
 GGS\,\nAND SO MUCH MORE!\n\nLOCATED ON PITTS STREET\, COMMERCE STREET\, AN
 D MAIN STREET\, RAIN OR\nSHINE EVERY SUNDAY FROM MAY TO OCTOBER. \n\n
X-ALT-DESC;FMTTYPE=text/html:<h3>The Berlin Farmers Market is a Producers O
 nly Market featuring 50+ Farmers\, Food Cultivators\, Bakers\, Distillers\
 , Seafood\, Meat\, Eggs\, and so much more!<br />\n<br />\nLocated on Pitt
 s Street\, Commerce Street\, and Main Street\, rain or shine every Sunday 
 from May to October.&nbsp\;</h3>
DTSTAMP:20260424T162812Z
END:VEVENT
END:VCALENDAR