BEGIN:VCALENDAR
VERSION:2.0
PRODID:WorCo
X-WR-CALNAME:15th Annual Snow Hill Oyster Roast
BEGIN:VEVENT
UID:342332026-03-29
DTSTART:20260329T170000Z
SEQUENCE:0
TRANSP:OPAQUE
DTEND:20260329T210000Z
SUMMARY:15th Annual Snow Hill Oyster Roast
CLASS:PUBLIC
DESCRIPTION:SAVE THE DATE FOR THE 15TH ANNUAL SNOW HILL OYSTER ROAST!\n\nMa
 rk your calendars\, seafood lovers! The 15th Annual Snow Hill Oyster\nRoas
 t is back and promises to be better than ever. What started 15\nyears ago 
 has grown into one of Snow Hill’s most beloved traditions\,\nand the Sno
 w Hill Area Chamber of Commerce is excited to invite you to\nanother unfor
 gettable day filled with incredible food\, refreshing\ndrinks\, music\, an
 d fun.\n\n📅 EVENT DETAILS\n\nDate: Sunday\, March 29th\n\nTime: 1:00–
 5:00 PM\n\nLocation: Downtown Snow Hill\, MD\n\n🍽️ WHAT’S ON THE ME
 NU?\n\n11 food stations with menu coming soon.\n\n🎶 ENTERTAINMENT\n\nEn
 joy a lively atmosphere with live music throughout the event\,\ncreating t
 he perfect backdrop for an afternoon of great food\, great\ncompany\, and 
 celebration.\n\n🍻 BOTTOMLESS BEER\, SODAS & WATER\n\nYour ticket includ
 es bottomless beer\, sodas\, and water\, so sip\, savor\,\nand socialize w
 hile soaking in the festive downtown vibe.\n\n🎁 PRIZES\n\nJoin in the e
 xcitement with our 50/50 raffle for a chance to win a big\ncash prize.\n\n
 🎟️ TICKET INFORMATION\n\nTICKETS ON SALE: FEBRUARY 6TH AT 10:00 AM (O
 NLINE ONLY)\n\nPRICE: $70 PER PERSON (PLUS EVENTBRITE FEE)\n\nCHILDREN UND
 ER 5: FREE (MUST BE ACCOMPANIED WITH TICKETED ADULT/S)\n\nTickets are limi
 ted and this event will sell out\, so be sure to grab\nyours early.\n\nLet
 ’s make the 15th Annual Snow Hill Oyster Roast the most memorable\none y
 et. Bring your friends\, bring your appetite\, and join us for an\nafterno
 on packed with seafood\, fun\, and tradition.\n\nSee you at the Oyster Roa
 st!\n\n
X-ALT-DESC;FMTTYPE=text/html:<table align=\"center\" class=\"Table\" style=
 \"width:100.0%\" width=\"100%\">\n<tbody>\n<tr>\n<td style=\"padding:0in 0
 in 0in 0in\">\n<table class=\"Table\" style=\"width:100.0%\" width=\"100%\
 ">\n<tbody>\n<tr>\n<td style=\"padding:22px 22px 22px 22px\" valign=\"top\
 ">\n<p align=\"center\" style=\"margin-bottom:20px\; text-align:center\"><
 span style=\"font-size:12pt\"><span style=\"line-height:19.4pt\"><span sty
 le=\"font-family:Aptos\,sans-serif\"><strong><span helvetica=\"\" style=\"
 font-family:\"><span style=\"color:#313131\">Save the date for the 15th An
 nual Snow Hill Oyster Roast!</span></span></strong></span></span></span></
 p>\n\n<p style=\"margin-bottom:20px\"><span style=\"font-size:12pt\"><span
  style=\"line-height:19.4pt\"><span style=\"font-family:Aptos\,sans-serif\
 "><span helvetica=\"\" style=\"font-family:\"><span style=\"color:#313131\
 ">Mark your calendars\, seafood lovers! The 15th Annual Snow Hill Oyster R
 oast is back and promises to be better than ever. What started 15 years ag
 o has grown into one of Snow Hill&rsquo\;s most beloved traditions\, and t
 he Snow Hill Area Chamber of Commerce is excited to invite you to another 
 unforgettable day filled with incredible food\, refreshing drinks\, music\
 , and fun.</span></span></span></span></span></p>\n\n<p style=\"margin-bot
 tom:20px\"><span style=\"font-size:12pt\"><span style=\"line-height:19.4pt
 \"><span style=\"font-family:Aptos\,sans-serif\"><strong><span emoji=\"\" 
 segoe=\"\" style=\"font-family:\" ui=\"\"><span style=\"color:#313131\">
 📅</span></span></strong><strong><span helvetica=\"\" style=\"font-famil
 y:\"><span style=\"color:#313131\"> Event Details</span></span></strong></
 span></span></span></p>\n\n<p style=\"margin-bottom:20px\"><span style=\"f
 ont-size:12pt\"><span style=\"line-height:19.4pt\"><span style=\"font-fami
 ly:Aptos\,sans-serif\"><span helvetica=\"\" style=\"font-family:\"><span s
 tyle=\"color:#313131\">Date: Sunday\, March 29th</span></span></span></spa
 n></span></p>\n\n<p style=\"margin-bottom:20px\"><span style=\"font-size:1
 2pt\"><span style=\"line-height:19.4pt\"><span style=\"font-family:Aptos\,
 sans-serif\"><span helvetica=\"\" style=\"font-family:\"><span style=\"col
 or:#313131\">Time: 1:00&ndash\;5:00 PM</span></span></span></span></span><
 /p>\n\n<p style=\"margin-bottom:20px\"><span style=\"font-size:12pt\"><spa
 n style=\"line-height:19.4pt\"><span style=\"font-family:Aptos\,sans-serif
 \"><span helvetica=\"\" style=\"font-family:\"><span style=\"color:#313131
 \">Location: Downtown Snow Hill\, MD</span></span></span></span></span></p
 >\n\n<p style=\"margin-bottom:20px\"><span style=\"font-size:12pt\"><span 
 style=\"line-height:19.4pt\"><span style=\"font-family:Aptos\,sans-serif\"
 ><strong><span emoji=\"\" segoe=\"\" style=\"font-family:\" ui=\"\"><span 
 style=\"color:#313131\">🍽️</span></span></strong><strong><span helvet
 ica=\"\" style=\"font-family:\"><span style=\"color:#313131\"> What&rsquo\
 ;s on the Menu?</span></span></strong></span></span></span></p>\n\n<p styl
 e=\"margin-bottom:20px\"><span style=\"font-size:12pt\"><span style=\"line
 -height:19.4pt\"><span style=\"font-family:Aptos\,sans-serif\"><span helve
 tica=\"\" style=\"font-family:\"><span style=\"color:#313131\">11 food sta
 tions with menu coming soon.</span></span></span></span></span></p>\n\n<p 
 style=\"margin-bottom:20px\"><span style=\"font-size:12pt\"><span style=\"
 line-height:19.4pt\"><span style=\"font-family:Aptos\,sans-serif\"><strong
 ><span emoji=\"\" segoe=\"\" style=\"font-family:\" ui=\"\"><span style=\"
 color:#313131\">🎶</span></span></strong><strong><span helvetica=\"\" st
 yle=\"font-family:\"><span style=\"color:#313131\"> Entertainment</span></
 span></strong></span></span></span></p>\n\n<p style=\"margin-bottom:20px\"
 ><span style=\"font-size:12pt\"><span style=\"line-height:19.4pt\"><span s
 tyle=\"font-family:Aptos\,sans-serif\"><span helvetica=\"\" style=\"font-f
 amily:\"><span style=\"color:#313131\">Enjoy a lively atmosphere with live
  music throughout the event\, creating the perfect backdrop for an afterno
 on of great food\, great company\, and celebration.</span></span></span></
 span></span></p>\n\n<p style=\"margin-bottom:20px\"><span style=\"font-siz
 e:12pt\"><span style=\"line-height:19.4pt\"><span style=\"font-family:Apto
 s\,sans-serif\"><strong><span emoji=\"\" segoe=\"\" style=\"font-family:\"
  ui=\"\"><span style=\"color:#313131\">🍻</span></span></strong><strong>
 <span helvetica=\"\" style=\"font-family:\"><span style=\"color:#313131\">
  Bottomless Beer\, Sodas &amp\; Water</span></span></strong></span></span>
 </span></p>\n\n<p style=\"margin-bottom:20px\"><span style=\"font-size:12p
 t\"><span style=\"line-height:19.4pt\"><span style=\"font-family:Aptos\,sa
 ns-serif\"><span helvetica=\"\" style=\"font-family:\"><span style=\"color
 :#313131\">Your ticket includes bottomless beer\, sodas\, and water\, so s
 ip\, savor\, and socialize while soaking in the festive downtown vibe.</sp
 an></span></span></span></span></p>\n\n<p style=\"margin-bottom:20px\"><sp
 an style=\"font-size:12pt\"><span style=\"line-height:19.4pt\"><span style
 =\"font-family:Aptos\,sans-serif\"><strong><span emoji=\"\" segoe=\"\" sty
 le=\"font-family:\" ui=\"\"><span style=\"color:#313131\">🎁</span></spa
 n></strong><strong><span helvetica=\"\" style=\"font-family:\"><span style
 =\"color:#313131\"> Prizes</span></span></strong></span></span></span></p>
 \n\n<p style=\"margin-bottom:20px\"><span style=\"font-size:12pt\"><span s
 tyle=\"line-height:19.4pt\"><span style=\"font-family:Aptos\,sans-serif\">
 <span helvetica=\"\" style=\"font-family:\"><span style=\"color:#313131\">
 Join in the excitement with our 50/50 raffle for a chance to win a big cas
 h prize.</span></span></span></span></span></p>\n\n<p style=\"margin-botto
 m:20px\"><span style=\"font-size:12pt\"><span style=\"line-height:19.4pt\"
 ><span style=\"font-family:Aptos\,sans-serif\"><strong><span emoji=\"\" se
 goe=\"\" style=\"font-family:\" ui=\"\"><span style=\"color:#313131\">🎟
 ️</span></span></strong><strong><span helvetica=\"\" style=\"font-family
 :\"><span style=\"color:#313131\"> Ticket Information</span></span></stron
 g></span></span></span></p>\n\n<p style=\"margin-bottom:20px\"><span style
 =\"font-size:12pt\"><span style=\"line-height:19.4pt\"><span style=\"font-
 family:Aptos\,sans-serif\"><strong><span helvetica=\"\" style=\"font-famil
 y:\"><span style=\"color:#313131\">Tickets On Sale: February 6th at 10:00 
 AM (online only)</span></span></strong></span></span></span></p>\n\n<p sty
 le=\"margin-bottom:20px\"><span style=\"font-size:12pt\"><span style=\"lin
 e-height:19.4pt\"><span style=\"font-family:Aptos\,sans-serif\"><strong><s
 pan helvetica=\"\" style=\"font-family:\"><span style=\"color:#313131\">Pr
 ice: $70 per person (plus Eventbrite fee)</span></span></strong></span></s
 pan></span></p>\n\n<p style=\"margin-bottom:20px\"><span style=\"font-size
 :12pt\"><span style=\"line-height:19.4pt\"><span style=\"font-family:Aptos
 \,sans-serif\"><strong><span helvetica=\"\" style=\"font-family:\"><span s
 tyle=\"color:#313131\">Children under 5: FREE (Must be accompanied with ti
 cketed adult/s)</span></span></strong></span></span></span></p>\n\n<p styl
 e=\"margin-bottom:20px\"><span style=\"font-size:12pt\"><span style=\"line
 -height:19.4pt\"><span style=\"font-family:Aptos\,sans-serif\"><span helve
 tica=\"\" style=\"font-family:\"><span style=\"color:#313131\">Tickets are
  limited and this event will sell out\, so be sure to grab yours early.</s
 pan></span></span></span></span></p>\n\n<p style=\"margin-bottom:20px\"><s
 pan style=\"font-size:12pt\"><span style=\"line-height:19.4pt\"><span styl
 e=\"font-family:Aptos\,sans-serif\"><span helvetica=\"\" style=\"font-fami
 ly:\"><span style=\"color:#313131\">Let&rsquo\;s make the 15th Annual Snow
  Hill Oyster Roast the most memorable one yet. Bring your friends\, bring 
 your appetite\, and join us for an afternoon packed with seafood\, fun\, a
 nd tradition.</span></span></span></span></span></p>\n\n<p style=\"margin-
 bottom:20px\"><span style=\"font-size:12pt\"><span style=\"line-height:19.
 4pt\"><span style=\"font-family:Aptos\,sans-serif\"><span helvetica=\"\" s
 tyle=\"font-family:\"><span style=\"color:#313131\">See you at the Oyster 
 Roast!</span></span></span></span></span></p>\n</td>\n</tr>\n</tbody>\n</t
 able>\n</td>\n</tr>\n</tbody>\n</table>
DTSTAMP:20260421T113028Z
END:VEVENT
END:VCALENDAR